BEGIN:VCALENDAR
VERSION:2.0
PRODID:icalendar-ruby
CALSCALE:GREGORIAN
METHOD:PUBLISH
BEGIN:VEVENT
DTSTAMP:20260424T083957Z
UID:9-276371@shermanavenueumc.org
DTSTART:20260830T143000Z
DTEND:20260830T153000Z
CLASS:PUBLIC
CREATED:20260423T222101
DESCRIPTION:Come and worship with Sherman Church at 9:30am(ish). We preach 
 the Gospel together and go forth to change the world. \nEach month:\n\n1s
 t Sunday \n\nWear your Sherman Church shirt. Please see Rev. David or Min
 ister Caitilin if you need one.\nCommunion - All are welcome to participat
 e\nCommunity brunch following the service\n\n\n3rd Sunday \n\nCommunity b
 reakfast following the service\n\n\n4th Sunday \n\nReverend Sias brings t
 he word\n\n\n5th Sunday \n\nChildren's Sunday - The children of the churc
 h shine in leading the Call to Worship\n\n\n
LAST-MODIFIED:20260423T222101
LOCATION:Sherman Avenue UMC and Facebook
SUMMARY:Sunday Worship
URL;VALUE=URI:https://www.shermanavenueumc.org/events/sunday-worship--9/202
 6-08-30
ATTACH;FILENAME=Church-building-front.png;FMTTYPE=image/png:https://dq5pwpg
 1q8ru0.cloudfront.net/2025/11/26/01/30/20/0c9a1241-452f-4b13-b9b6-deba72d3
 54ca/Church-building-front.png
ATTACH;FILENAME=Sherman-logo.png;FMTTYPE=image/png:https://dq5pwpg1q8ru0.cl
 oudfront.net/2025/11/26/01/30/20/35777d7e-1fd7-4dc7-8918-e53ae3801989/Sher
 man-logo.png
END:VEVENT
END:VCALENDAR
