BEGIN:VCALENDAR
VERSION:2.0
PRODID:icalendar-ruby
CALSCALE:GREGORIAN
METHOD:PUBLISH
BEGIN:VEVENT
DTSTAMP:20260421T134027Z
UID:10-274163@shermanavenueumc.org
DTSTART:20260722T230000Z
DTEND:20260722T233000Z
CLASS:PUBLIC
CREATED:20260421T073046
DESCRIPTION:Every Wednesday at 6pm\, we have a Mid-Week Meditation\, a pray
 er\, scripture and short reflection by teleconference. The call-in number 
 is 1(667) 770-1689. The access code is 486727.\n 
LAST-MODIFIED:20260421T073046
LOCATION:Teleconference
SUMMARY:Mid-Week Meditation
URL;VALUE=URI:https://www.shermanavenueumc.org/events/mid-week-meditation/2
 026-07-22
ATTACH;FILENAME=Mid-Week-Meditation.PNG;FMTTYPE=image/png:https://dq5pwpg1q
 8ru0.cloudfront.net/2025/11/26/02/26/01/16f1d3a5-0dd9-4150-9e6f-a962f83c18
 41/Mid-Week-Meditation.PNG
END:VEVENT
END:VCALENDAR
