BEGIN:VCALENDAR
VERSION:2.0
PRODID:icalendar-ruby
CALSCALE:GREGORIAN
METHOD:PUBLISH
BEGIN:VEVENT
DTSTAMP:20260420T031219Z
UID:11-272892@shermanavenueumc.org
DTSTART:20260420T194500Z
DTEND:20260420T224500Z
CLASS:PUBLIC
CREATED:20260419T163128
DESCRIPTION:Free and Open to the Public!\nWe host a monthly food pantry dis
 tribution for Lake View area families and the community on the third Monda
 y of the month from 3:45-5:45 p.m. The food pantry is at Sherman Ave. Unit
 ed Methodist Church (3705 N Sherman Ave\, Madison\, WI 53704)\, which is l
 ocated across the street from Lake View Elementary School.\nSet-up starts 
 at about 2:45pm. Please reach out to Mother Beason with any questions.\nLe
 arn more on their website.
LAST-MODIFIED:20260419T163128
LOCATION:Sherman Avenue UMC
SUMMARY:Lake View Food Pantry
URL;VALUE=URI:https://www.shermanavenueumc.org/events/lake-view-food-pantry
 /2026-04-20
ATTACH;FILENAME=Food-pantry.jpg;FMTTYPE=image/jpeg:https://dq5pwpg1q8ru0.cl
 oudfront.net/2025/11/30/18/28/04/445ed03f-9fcd-42f7-b7a6-49a2f3b5e100/Food
 -pantry.jpg
END:VEVENT
END:VCALENDAR
